BEGIN:VCALENDAR
VERSION:2.0
PRODID:-//Overtown Children &amp; Youth Coalition - ECPv6.15.20//NONSGML v1.0//EN
CALSCALE:GREGORIAN
METHOD:PUBLISH
X-WR-CALNAME:Overtown Children &amp; Youth Coalition
X-ORIGINAL-URL:https://overtowncyc.org
X-WR-CALDESC:Events for Overtown Children &amp; Youth Coalition
REFRESH-INTERVAL;VALUE=DURATION:PT1H
X-Robots-Tag:noindex
X-PUBLISHED-TTL:PT1H
BEGIN:VTIMEZONE
TZID:America/New_York
BEGIN:DAYLIGHT
TZOFFSETFROM:-0500
TZOFFSETTO:-0400
TZNAME:EDT
DTSTART:20250309T070000
END:DAYLIGHT
BEGIN:STANDARD
TZOFFSETFROM:-0400
TZOFFSETTO:-0500
TZNAME:EST
DTSTART:20251102T060000
END:STANDARD
BEGIN:DAYLIGHT
TZOFFSETFROM:-0500
TZOFFSETTO:-0400
TZNAME:EDT
DTSTART:20260308T070000
END:DAYLIGHT
BEGIN:STANDARD
TZOFFSETFROM:-0400
TZOFFSETTO:-0500
TZNAME:EST
DTSTART:20261101T060000
END:STANDARD
BEGIN:DAYLIGHT
TZOFFSETFROM:-0500
TZOFFSETTO:-0400
TZNAME:EDT
DTSTART:20270314T070000
END:DAYLIGHT
BEGIN:STANDARD
TZOFFSETFROM:-0400
TZOFFSETTO:-0500
TZNAME:EST
DTSTART:20271107T060000
END:STANDARD
END:VTIMEZONE
BEGIN:VEVENT
DTSTART;TZID=America/New_York:20260318T180000
DTEND;TZID=America/New_York:20260318T200000
DTSTAMP:20260423T162713
CREATED:20260218T152828Z
LAST-MODIFIED:20260218T152828Z
UID:16727-1773856800-1773864000@overtowncyc.org
SUMMARY:District 2 Town Hall: Business & Schools
DESCRIPTION:[vc_row][vc_column width=”1/1″][vc_column_text uncode_shortcode_id=”832828″] \nHosted by School Board Member Dr. Dorothy Bendross-Mindingall\nOvertown Children & Youth Coalition (OCYC) invites residents\, parents\, educators\, local business owners\, and community stakeholders to a District 2 Town Hall focused on strengthening our education ecosystem. \nThis moderated panel discussion will create space for honest conversation\, shared insight\, and community-driven ideas on how we can better support students\, families\, and schools across District 2. \nThis gathering is part of OCYC’s Collective Impact / Conversation Wednesday approach\, bringing community voices together to help shape stronger outcomes for our youth. \n📅 Tuesday\, March 18\, 2026\n🕕 6:00 PM – 8:00 PM\n📍 Children’s Village \nWhat to Expect: \n\nOpening remarks from Dr. Dorothy Bendross-Mindingall\nModerated panel discussion\nCommunity Q&A\nClosing remarks from OCYC\nRefreshments provided\n\nFeatured Panelists: \n\nTina Brown — Nonprofit Representative\nDr. Linda Anika Roberts — School District Administrator\nPrincipal Anthony Simons — School Leader\nKen Naylor — Community Developer\, Atlantic Pacific Construction\nNicole Gates — Local Business Owner\nChris Norwood — Community Stakeholder & Historian\nOscar Brennan — Policy & Advocacy\nMetris Batts-Coley\, Executive Director\, Overton Business Association\n\n\n\n\nCome share your voice and help shape the future of education in District 2.\n\n\n\n\n[/vc_column_text][/vc_column][/vc_row]
URL:https://overtowncyc.org/event/district-2-town-hall-3-18-2026/
LOCATION:Children’s Village at Lotus Village\, 219 NW 14 Ter Suite 403\, Miami\, FL\, 33136\, United States
CATEGORIES:Community Conversations
ATTACH;FMTTYPE=image/png:https://res.cloudinary.com/dndtytg3u/images/f_auto,q_auto/v1773694842/OCYC-Wordpress/District-2-Town-Hall-2160x1080-1/District-2-Town-Hall-2160x1080-1.png?_i=AA
END:VEVENT
END:VCALENDAR