BEGIN:VCALENDAR
VERSION:2.0
PRODID:-//Overtown Children &amp; Youth Coalition - ECPv6.15.20//NONSGML v1.0//EN
CALSCALE:GREGORIAN
METHOD:PUBLISH
X-ORIGINAL-URL:https://overtowncyc.org
X-WR-CALDESC:Events for Overtown Children &amp; Youth Coalition
REFRESH-INTERVAL;VALUE=DURATION:PT1H
X-Robots-Tag:noindex
X-PUBLISHED-TTL:PT1H
BEGIN:VTIMEZONE
TZID:America/New_York
BEGIN:DAYLIGHT
TZOFFSETFROM:-0500
TZOFFSETTO:-0400
TZNAME:EDT
DTSTART:20250309T070000
END:DAYLIGHT
BEGIN:STANDARD
TZOFFSETFROM:-0400
TZOFFSETTO:-0500
TZNAME:EST
DTSTART:20251102T060000
END:STANDARD
BEGIN:DAYLIGHT
TZOFFSETFROM:-0500
TZOFFSETTO:-0400
TZNAME:EDT
DTSTART:20260308T070000
END:DAYLIGHT
BEGIN:STANDARD
TZOFFSETFROM:-0400
TZOFFSETTO:-0500
TZNAME:EST
DTSTART:20261101T060000
END:STANDARD
BEGIN:DAYLIGHT
TZOFFSETFROM:-0500
TZOFFSETTO:-0400
TZNAME:EDT
DTSTART:20270314T070000
END:DAYLIGHT
BEGIN:STANDARD
TZOFFSETFROM:-0400
TZOFFSETTO:-0500
TZNAME:EST
DTSTART:20271107T060000
END:STANDARD
END:VTIMEZONE
BEGIN:VEVENT
DTSTART;TZID=America/New_York:20260617T180000
DTEND;TZID=America/New_York:20260617T200000
DTSTAMP:20260423T124134
CREATED:20260114T143618Z
LAST-MODIFIED:20260129T211211Z
UID:16536-1781719200-1781726400@overtowncyc.org
SUMMARY:Conversation Wednesday
DESCRIPTION:Conversation Wednesday is more than a meeting — it’s a movement. Held every 3rd Wednesday bi-monthly\, your voice is essential to shaping the future of the Overtown community\, and we invite you to join us as we continue to work collectively to identify opportunities\, align efforts\, and build a stronger\, more connected Overtown.\nThrough these conversations\, we will discuss\, develop\, and implement strategies to: \n\nAddress health and safety disparities\, concerns\, and obstacles\nBuild and strengthen economic enhancements for the community\nDeepen our collaborative efforts across sectors\nImprove data collection\, accessibility\, and data-sharing practices\n\nRSVP TO ATTEND
URL:https://overtowncyc.org/event/conversation-wednesday-6-17-2026/
LOCATION:Children’s Village at Lotus Village\, 219 NW 14 Ter Suite 403\, Miami\, FL\, 33136\, United States
CATEGORIES:Community Conversations
ATTACH;FMTTYPE=image/webp:https://res.cloudinary.com/dndtytg3u/images/f_auto,q_auto/v1773695151/OCYC-Wordpress/ConvoWednesdays-Eventbrite/ConvoWednesdays-Eventbrite.webp?_i=AA
END:VEVENT
BEGIN:VEVENT
DTSTART;TZID=America/New_York:20260819T180000
DTEND;TZID=America/New_York:20260819T200000
DTSTAMP:20260423T124134
CREATED:20260114T143700Z
LAST-MODIFIED:20260129T211141Z
UID:16538-1787162400-1787169600@overtowncyc.org
SUMMARY:Conversation Wednesday
DESCRIPTION:Conversation Wednesday is more than a meeting — it’s a movement. Held every 3rd Wednesday bi-monthly\, your voice is essential to shaping the future of the Overtown community\, and we invite you to join us as we continue to work collectively to identify opportunities\, align efforts\, and build a stronger\, more connected Overtown.\nThrough these conversations\, we will discuss\, develop\, and implement strategies to: \n\nAddress health and safety disparities\, concerns\, and obstacles\nBuild and strengthen economic enhancements for the community\nDeepen our collaborative efforts across sectors\nImprove data collection\, accessibility\, and data-sharing practices\n\nRSVP TO ATTEND
URL:https://overtowncyc.org/event/conversation-wednesday-8-19-2026/
LOCATION:Children’s Village at Lotus Village\, 219 NW 14 Ter Suite 403\, Miami\, FL\, 33136\, United States
CATEGORIES:Community Conversations
ATTACH;FMTTYPE=image/webp:https://res.cloudinary.com/dndtytg3u/images/f_auto,q_auto/v1773695151/OCYC-Wordpress/ConvoWednesdays-Eventbrite/ConvoWednesdays-Eventbrite.webp?_i=AA
END:VEVENT
BEGIN:VEVENT
DTSTART;TZID=America/New_York:20261021T180000
DTEND;TZID=America/New_York:20261021T200000
DTSTAMP:20260423T124134
CREATED:20260114T143736Z
LAST-MODIFIED:20260129T211111Z
UID:16540-1792605600-1792612800@overtowncyc.org
SUMMARY:Conversation Wednesday
DESCRIPTION:Conversation Wednesday is more than a meeting — it’s a movement. Held every 3rd Wednesday bi-monthly\, your voice is essential to shaping the future of the Overtown community\, and we invite you to join us as we continue to work collectively to identify opportunities\, align efforts\, and build a stronger\, more connected Overtown.\nThrough these conversations\, we will discuss\, develop\, and implement strategies to: \n\nAddress health and safety disparities\, concerns\, and obstacles\nBuild and strengthen economic enhancements for the community\nDeepen our collaborative efforts across sectors\nImprove data collection\, accessibility\, and data-sharing practices\n\nRSVP TO ATTEND
URL:https://overtowncyc.org/event/conversation-wednesday-10-21-2026/
LOCATION:Children’s Village at Lotus Village\, 219 NW 14 Ter Suite 403\, Miami\, FL\, 33136\, United States
CATEGORIES:Community Conversations
ATTACH;FMTTYPE=image/webp:https://res.cloudinary.com/dndtytg3u/images/f_auto,q_auto/v1773695151/OCYC-Wordpress/ConvoWednesdays-Eventbrite/ConvoWednesdays-Eventbrite.webp?_i=AA
END:VEVENT
BEGIN:VEVENT
DTSTART;TZID=America/New_York:20261215T180000
DTEND;TZID=America/New_York:20261215T200000
DTSTAMP:20260423T124134
CREATED:20260114T143815Z
LAST-MODIFIED:20260129T211036Z
UID:16542-1797357600-1797364800@overtowncyc.org
SUMMARY:Conversation Wednesday
DESCRIPTION:Conversation Wednesday is more than a meeting — it’s a movement. Held every 3rd Wednesday bi-monthly\, your voice is essential to shaping the future of the Overtown community\, and we invite you to join us as we continue to work collectively to identify opportunities\, align efforts\, and build a stronger\, more connected Overtown.\nThrough these conversations\, we will discuss\, develop\, and implement strategies to: \n\nAddress health and safety disparities\, concerns\, and obstacles\nBuild and strengthen economic enhancements for the community\nDeepen our collaborative efforts across sectors\nImprove data collection\, accessibility\, and data-sharing practices\n\nRSVP TO ATTEND
URL:https://overtowncyc.org/event/conversation-wednesday-12-15-2026/
LOCATION:Children’s Village at Lotus Village\, 219 NW 14 Ter Suite 403\, Miami\, FL\, 33136\, United States
CATEGORIES:Community Conversations
ATTACH;FMTTYPE=image/webp:https://res.cloudinary.com/dndtytg3u/images/f_auto,q_auto/v1773695151/OCYC-Wordpress/ConvoWednesdays-Eventbrite/ConvoWednesdays-Eventbrite.webp?_i=AA
END:VEVENT
END:VCALENDAR